Workbook

Sheet Ergebnisse
A1: Ergebnisse der Analyse
A3: Beschreibung:
A4: Auf diesem Tabellenblatt ist die Übersicht der Ergebnisse der weiteren Tabellenblätter dargestellt. Diese Übersicht kann auch fürs kommunale Konzept zur frühen Förderung verwendet werden.
A5: Allfällige Handlungsoptionen ergeben sich aus den | G5: Handlungsempfehlungen für Gemeinden zur Strategie «Frühe Förderung 2021 bis 2026»
A34: Stärken: | B34: Bei | C34: =COUNTIF('Fragen Rahmenbedingungen'!$M$8:$M$28,3) -> 17 | D34: von | E34: =COUNTIF('Fragen Rahmenbedingungen'!$M$8:$M$28,">0") -> 21 | F34: beantworteten Fragen entspricht der IST-Zustand dem Bedarf | K34: Stärken: | L34: Bei | M34: =COUNTIF('Fragen Grundangebot'!$M$8:$M$31,3) -> 17 | N34: von | O34: =COUNTIF('Fragen Grundangebot'!$M$8:$M$31,">0") -> 24 | P34: beantworteten Fragen entspricht der IST-Zustand dem Bedarf
A35: Schwächen / Chancen: | B35: Bei | C35: =COUNTIF('Fragen Rahmenbedingungen'!$M$8:$M$28,1) -> 4 | D35: von | E35: =COUNTIF('Fragen Rahmenbedingungen'!$M$8:$M$28,">0") -> 21 | F35: beantworteten Fragen entspricht der IST-Zustand (noch) nicht dem Bedarf | K35: Schwächen / Chancen: | L35: Bei | M35: =COUNTIF('Fragen Grundangebot'!$M$8:$M$31,1) -> 7 | N35: von | O35: =COUNTIF('Fragen Grundangebot'!$M$8:$M$31,">0") -> 24 | P35: beantworteten Fragen entspricht der IST-Zustand (noch) nicht dem Bedarf
A36: Risiken: | B36: Bei | C36: =COUNTIF('Fragen Rahmenbedingungen'!$M$8:$M$28,2) -> 0 | D36: von | E36: =COUNTIF('Fragen Rahmenbedingungen'!$M$8:$M$28,">0") -> 21 | F36: beantworteten Fragen gibt es Angebote/Massnahmen ohne Bedarf | K36: Risiken: | L36: Bei | M36: =COUNTIF('Fragen Grundangebot'!$M$8:$M$31,2) -> 0 | N36: von | O36: =COUNTIF('Fragen Grundangebot'!$M$8:$M$31,">0") -> 24 | P36: beantworteten Fragen gibt es Angebote/Massnahmen ohne Bedarf

Sheet Fragen Rahmenbedingungen
A1: Rahmenbedingungen
A3: Beschreibung:
A4: In diesem Bereich werden Fragen zu den Rahmenbedingungen der frühen Förderung in der Gemeinde gestellt. Darin enthalten sind u.a. Fragen zu den Grundlagen îm Bereich der frühen Förderung, der Vernetzung unter den Akteurinnen und Akteuren, der Finanzierung oder der Qualität.
A6: Fragen:
A7: Thema Nr. | B7: Thema | C7: Fragen | D7: Ist | E7: Soll | I7: IST-Zustand | K7: Potenzieller Bedarf | M7: Ergebnis Frage
A8: R1 | B8: Grundlagen | C8: Verfügt Ihre Gemeinde über ein Konzept zur frühen Förderung? | D8: Nein | E8: Ja | H8: =IF(D8="ja",1,0) -> 0 | I8: =SUM(H8:H12)*(3/5) -> 1.8 | J8: =IF(E8="ja",1,0) -> 1 | K8: =SUM(J8:J12)*(3/5) -> 3 | M8: =IF(AND(D8="",E8=""),0,IF(AND(D8="nein",E8="ja"),1,IF(AND(D8="ja",E8="nein"),2,3))) -> 1
C9: Gibt es weitere Grundlagen zur frühen Förderung in der Gemeinde (z.B. Massnahmenplan, Strategie)? | D9: Ja | E9: Ja | H9: =IF(D9="ja",1,0) -> 1 | J9: =IF(E9="ja",1,0) -> 1 | M9: =IF(AND(D9="",E9=""),0,IF(AND(D9="nein",E9="ja"),1,IF(AND(D9="ja",E9="nein"),2,3))) -> 3
C10: Wird die Situation im Bereich der frühen Förderung in Ihrer Gemeinde (bzw. im Verbund) regelmässig überprüft? | D10: Ja | E10: Ja | H10: =IF(D10="ja",1,0) -> 1 | J10: =IF(E10="ja",1,0) -> 1 | M10: =IF(AND(D10="",E10=""),0,IF(AND(D10="nein",E10="ja"),1,IF(AND(D10="ja",E10="nein"),2,3))) -> 3
C11: Werden Familien bei der Erstellung oder Überprüfng von Grundlagen (z.B. Konzept, Massnahmen) einbezogen? | D11: Ja | E11: Ja | H11: =IF(D11="ja",1,0) -> 1 | J11: =IF(E11="ja",1,0) -> 1 | M11: =IF(AND(D11="",E11=""),0,IF(AND(D11="nein",E11="ja"),1,IF(AND(D11="ja",E11="nein"),2,3))) -> 3
C12: Gibt es eine Ansprechperson/Anlaufstelle für die frühe Förderung in der Gemeinde (bzw. im Verbund)? | D12: Nein | E12: Ja | H12: =IF(D12="ja",1,0) -> 0 | J12: =IF(E12="ja",1,0) -> 1 | M12: =IF(AND(D12="",E12=""),0,IF(AND(D12="nein",E12="ja"),1,IF(AND(D12="ja",E12="nein"),2,3))) -> 1
A13: R2 | B13: Koordination und Vernetzung | C13: Gibt es für Verantwortliche und Fachpersonen eine Übersicht der Angebote (z.B. Erziehungs- und Beratungsangebote, Begegnungsorte wie Spielplätze)? | D13: Ja | E13: Ja | H13: =IF(D13="ja",1,0) -> 1 | I13: =SUM(H13:H16)*(3/4) -> 2.25 | J13: =IF(E13="ja",1,0) -> 1 | K13: =SUM(J13:J16)*(3/4) -> 2.25 | M13: =IF(AND(D13="",E13=""),0,IF(AND(D13="nein",E13="ja"),1,IF(AND(D13="ja",E13="nein"),2,3))) -> 3
C14: Sind die Angebote (z.B. Mütter- und Vaterberatung, Kinderärztinnen und Kinderärzte, Kitas, Spielgruppen, Tagesfamilien usw.) ausreichend vernetzt? | D14: Ja | E14: Ja | H14: =IF(D14="ja",1,0) -> 1 | J14: =IF(E14="ja",1,0) -> 1 | M14: =IF(AND(D14="",E14=""),0,IF(AND(D14="nein",E14="ja"),1,IF(AND(D14="ja",E14="nein"),2,3))) -> 3
C15: Ist der Informationsfluss zwischen den Angeboten gewährleistet (z.B zwischen Ärztinnen und Ärzten, Hebammen und Mütter- und Väterberaterinnen)? | D15: Ja | E15: Ja | H15: =IF(D15="ja",1,0) -> 1 | J15: =IF(E15="ja",1,0) -> 1 | M15: =IF(AND(D15="",E15=""),0,IF(AND(D15="nein",E15="ja"),1,IF(AND(D15="ja",E15="nein"),2,3))) -> 3
C16: Unterstützt die Gemeinde die Zusammenarbeit bzw. den Austausch zwischen den Angeboten im Bereich der frühen Förderung (z.B. Spielgruppe, Kitas) und der Schule/Kindergarten bzw. gibt es ein strukturiertes Vorgehen für diesen Übergang? | D16: Nein | E16: Nein | H16: =IF(D16="ja",1,0) -> 0 | J16: =IF(E16="ja",1,0) -> 0 | M16: =IF(AND(D16="",E16=""),0,IF(AND(D16="nein",E16="ja"),1,IF(AND(D16="ja",E16="nein"),2,3))) -> 3
A17: R3 | B17: Finanzierung | C17: Besteht eine Übersicht, welche Angebote in welcher Höhe finanziell unterstützt werden (z.B. Vergünstigungen, Erlass von Raummieten)? | D17: Ja | E17: Ja | H17: =IF(D17="ja",1,0) -> 1 | I17: =SUM(H17:H25)*(3/9) -> 1.6666667 | J17: =IF(E17="ja",1,0) -> 1 | K17: =SUM(J17:J25)*(3/9) -> 2 | M17: =IF(AND(D17="",E17=""),0,IF(AND(D17="nein",E17="ja"),1,IF(AND(D17="ja",E17="nein"),2,3))) -> 3
C18: Wird die Mütter- und Väterberatung finanziell unterstützt? | D18: Ja | E18: Ja | H18: =IF(D18="ja",1,0) -> 1 | J18: =IF(E18="ja",1,0) -> 1 | M18: =IF(AND(D18="",E18=""),0,IF(AND(D18="nein",E18="ja"),1,IF(AND(D18="ja",E18="nein"),2,3))) -> 3
C19: Werden Begegnungsräume (z.B. Familienzentrum) finanziell unterstützt? | D19: Nein | E19: Nein | H19: =IF(D19="ja",1,0) -> 0 | J19: =IF(E19="ja",1,0) -> 0 | M19: =IF(AND(D19="",E19=""),0,IF(AND(D19="nein",E19="ja"),1,IF(AND(D19="ja",E19="nein"),2,3))) -> 3
C20: Werden Angebote zur Erziehungsberatung für Eltern von jungen Kindern finanziell unterstützt? | D20: Ja | E20: Ja | H20: =IF(D20="ja",1,0) -> 1 | J20: =IF(E20="ja",1,0) -> 1 | M20: =IF(AND(D20="",E20=""),0,IF(AND(D20="nein",E20="ja"),1,IF(AND(D20="ja",E20="nein"),2,3))) -> 3
C21: Werden Angebote zur Elternbildung oder Elterninformation (z.B. Veranstaltungen) finanziell unterstützt? | D21: Nein | E21: Nein | H21: =IF(D21="ja",1,0) -> 0 | J21: =IF(E21="ja",1,0) -> 0 | M21: =IF(AND(D21="",E21=""),0,IF(AND(D21="nein",E21="ja"),1,IF(AND(D21="ja",E21="nein"),2,3))) -> 3
C22: Werden Angebote für Familien mit besonderen Bedürfnissen (z.B. Kinder mit Behinderung, armutsbetroffene Familien) finanziell unterstützt? | D22: Nein | E22: Ja | H22: =IF(D22="ja",1,0) -> 0 | J22: =IF(E22="ja",1,0) -> 1 | M22: =IF(AND(D22="",E22=""),0,IF(AND(D22="nein",E22="ja"),1,IF(AND(D22="ja",E22="nein"),2,3))) -> 1
C23: Werden Spielgruppen finanziell unterstützt (z.B. Elternbeiträge oder Objektbeiträge wie Raum usw.)? | D23: Ja | E23: Ja | H23: =IF(D23="ja",1,0) -> 1 | J23: =IF(E23="ja",1,0) -> 1 | M23: =IF(AND(D23="",E23=""),0,IF(AND(D23="nein",E23="ja"),1,IF(AND(D23="ja",E23="nein"),2,3))) -> 3
C24: Werden Kindertagesstätten oder Tagesfamilien (z.B. über Elternbeiträge, Beiträge an die Angebote, Erlass von Raummieten) finanziell unterstützt? | D24: Ja | E24: Ja | H24: =IF(D24="ja",1,0) -> 1 | J24: =IF(E24="ja",1,0) -> 1 | M24: =IF(AND(D24="",E24=""),0,IF(AND(D24="nein",E24="ja"),1,IF(AND(D24="ja",E24="nein"),2,3))) -> 3
C25: Werden Projekte im Bereich der frühen Förderung finanziell unterstützt? | D25: Nein | E25: Nein | H25: =IF(D25="ja",1,0) -> 0 | J25: =IF(E25="ja",1,0) -> 0 | M25: =IF(AND(D25="",E25=""),0,IF(AND(D25="nein",E25="ja"),1,IF(AND(D25="ja",E25="nein"),2,3))) -> 3
A26: R4 | B26: Qualität und Weiterbildung | C26: Sind die kantonalen Grundlagen bei den Zuständigen der Gemeinde wie auch der Angebote bekannt? Z.B. | D26: Ja | E26: Ja | H26: =IF(D26="ja",1,0) -> 1 | I26: =SUM(H26:H28)*(3/3) -> 2 | J26: =IF(E26="ja",1,0) -> 1 | K26: =SUM(J26:J28)*(3/3) -> 3 | M26: =IF(AND(D26="",E26=""),0,IF(AND(D26="nein",E26="ja"),1,IF(AND(D26="ja",E26="nein"),2,3))) -> 3
C27: Fördert die Gemeinde die Qualität der Angebote über weitere Massnahmen (z.B. Qualitätsvorgaben in Leistungsvereinbarungen mit Kindertagesstätten, Qualitätsstandards für Tagesfamilien oder Spielgruppen)? | D27: Nein | E27: Ja | H27: =IF(D27="ja",1,0) -> 0 | J27: =IF(E27="ja",1,0) -> 1 | M27: =IF(AND(D27="",E27=""),0,IF(AND(D27="nein",E27="ja"),1,IF(AND(D27="ja",E27="nein"),2,3))) -> 1
C28: Wird die Weiterbildung von Personal (Angestellte oder Leitungen) in Angeboten der frühen Förderung (z.B. Mütter- und Väterberatung, Spielgruppen, Kitas, Familienzentren) finanziell unterstützt? | D28: Ja | E28: Ja | H28: =IF(D28="ja",1,0) -> 1 | J28: =IF(E28="ja",1,0) -> 1 | M28: =IF(AND(D28="",E28=""),0,IF(AND(D28="nein",E28="ja"),1,IF(AND(D28="ja",E28="nein"),2,3))) -> 3

Sheet Fragen Grundangebot
A1: Grundangebot
A3: Beschreibung:
A4: In diesem Bereich werden Fragen zum Grundangebot der frühen Förderung in der Gemeinde gestellt. Darin enthalten sind u.a. Fragen zu einzelnen Angeboten einschliesslich deren Zugänglichkeit sowie der bedarfsgerechten Abdeckung in der Gemeinde.
A6: Fragen:
A7: Thema Nr. | B7: Thema | C7: Fragen | D7: Ist | E7: Soll | I7: IST-Zustand | K7: Potenzieller Bedarf | M7: Ergebnis Frage
A8: G1 | B8: Mütter- und Väterberatung | C8: Gibt es in der Gemeinde (oder im Verbund) ein Angebot der Mütter- und Väterberatung ? | D8: Ja | E8: Ja | H8: =IF(D8="ja",1,0) -> 1 | I8: =SUM(H8:H10)*(3/3) -> 1 | J8: =IF(E8="ja",1,0) -> 1 | K8: =SUM(J8:J10)*(3/3) -> 3 | M8: =IF(AND(D8="",E8=""),0,IF(AND(D8="nein",E8="ja"),1,IF(AND(D8="ja",E8="nein"),2,3))) -> 3
C9: Ist die Mütter- und Väterberatung für Eltern und Kinder gut zugänglich (z.B. Öffnungszeiten, verschiedene Kanäle, keine langen Wartefristen)? | D9: Nein | E9: Ja | H9: =IF(D9="ja",1,0) -> 0 | J9: =IF(E9="ja",1,0) -> 1 | M9: =IF(AND(D9="",E9=""),0,IF(AND(D9="nein",E9="ja"),1,IF(AND(D9="ja",E9="nein"),2,3))) -> 1
C10: Ist die Nutzung der Mütter- und Väterberatung bekannt bzw. wird dies regelmässig ausgewertet und allfällige Weiterentwicklungsmassnahmen (z.B. zur besseren Zugänglichkeit) getroffen? | D10: Nein | E10: Ja | H10: =IF(D10="ja",1,0) -> 0 | J10: =IF(E10="ja",1,0) -> 1 | M10: =IF(AND(D10="",E10=""),0,IF(AND(D10="nein",E10="ja"),1,IF(AND(D10="ja",E10="nein"),2,3))) -> 1
A11: G2 | B11: Begegnungsorte | C11: Gibt es in der Gemeinde (oder im Verbund) ausreichend Begegnungsräume im Aussenraum mit Spielgelegenheiten für Familien mit jungen Kindern (Plätze, Parks, Badeplätze usw.)? | D11: Ja | E11: Ja | H11: =IF(D11="ja",1,0) -> 1 | I11: =SUM(H11:H14)*(3/4) -> 3 | J11: =IF(E11="ja",1,0) -> 1 | K11: =SUM(J11:J14)*(3/4) -> 3 | M11: =IF(AND(D11="",E11=""),0,IF(AND(D11="nein",E11="ja"),1,IF(AND(D11="ja",E11="nein"),2,3))) -> 3
C12: Sind die Begegnungsräume im Aussenraum den Bedürfnissen der Familien angepasst (z.B. selbstständig erkundbar, gut und sicher erreichbar, bewegungsfördernd, wenig vorbestimmt)? | D12: Ja | E12: Ja | H12: =IF(D12="ja",1,0) -> 1 | J12: =IF(E12="ja",1,0) -> 1 | M12: =IF(AND(D12="",E12=""),0,IF(AND(D12="nein",E12="ja"),1,IF(AND(D12="ja",E12="nein"),2,3))) -> 3
C13: Gibt es in der Gemeinde (oder im Verbund) genügend Begegnungsorte in Innenräumen für Familien mit jungen Kindern (z.B. Familienzentrum, Familientreff, Bibiliothek)? | D13: Ja | E13: Ja | H13: =IF(D13="ja",1,0) -> 1 | J13: =IF(E13="ja",1,0) -> 1 | M13: =IF(AND(D13="",E13=""),0,IF(AND(D13="nein",E13="ja"),1,IF(AND(D13="ja",E13="nein"),2,3))) -> 3
C14: Sind die Begegnungsorte in Innenräumen für Familien mit jungen Kindern gut zugänglich (z.B. Öffnungszeiten, Lage, Barrierefreiheit)? | D14: Ja | E14: Ja | H14: =IF(D14="ja",1,0) -> 1 | J14: =IF(E14="ja",1,0) -> 1 | M14: =IF(AND(D14="",E14=""),0,IF(AND(D14="nein",E14="ja"),1,IF(AND(D14="ja",E14="nein"),2,3))) -> 3
A15: G3 | B15: Erziehungsberatung | C15: Gibt es in der Gemeinde (oder im Verbund) ein Angebot der Erziehungsberatung, das den Bereich von Familien mit jungen Kindern abdeckt (z.B. Familienberatung, Elterncoaching)? | D15: Ja | E15: Ja | H15: =IF(D15="ja",1,0) -> 1 | I15: =SUM(H15:H17)*(3/3) -> 2 | J15: =IF(E15="ja",1,0) -> 1 | K15: =SUM(J15:J17)*(3/3) -> 3 | M15: =IF(AND(D15="",E15=""),0,IF(AND(D15="nein",E15="ja"),1,IF(AND(D15="ja",E15="nein"),2,3))) -> 3
C16: Sind die Angebote der Erziehungsberatung für Familien gut zugänglich (z.B. Öffnungszeiten, verschiedene Kanäle, keine langen Wartefristen)? | D16: Ja | E16: Ja | H16: =IF(D16="ja",1,0) -> 1 | J16: =IF(E16="ja",1,0) -> 1 | M16: =IF(AND(D16="",E16=""),0,IF(AND(D16="nein",E16="ja"),1,IF(AND(D16="ja",E16="nein"),2,3))) -> 3
C17: Ist die Nutzung der Erziehungsberatung bekannt bzw. wird dies regelmässig ausgewertet und allfällige Weiterentwicklungsmassnahmen (z.B. zur besseren Zugänglichkeit) getroffen? | D17: Nein | E17: Ja | H17: =IF(D17="ja",1,0) -> 0 | J17: =IF(E17="ja",1,0) -> 1 | M17: =IF(AND(D17="",E17=""),0,IF(AND(D17="nein",E17="ja"),1,IF(AND(D17="ja",E17="nein"),2,3))) -> 1
A18: G4 | B18: Elternbildung und Elterninformation | C18: Informiert die Gemeinde Familien über Themen und Angebote der frühen Förderung? | D18: Ja | E18: Ja | H18: =IF(D18="ja",1,0) -> 1 | I18: =SUM(H18:H23)*(3/6) -> 2.5 | J18: =IF(E18="ja",1,0) -> 1 | K18: =SUM(J18:J23)*(3/6) -> 3 | M18: =IF(AND(D18="",E18=""),0,IF(AND(D18="nein",E18="ja"),1,IF(AND(D18="ja",E18="nein"),2,3))) -> 3
C19: Werden die Familien aktiv (also ohne deren Nachfrage) über Themen und Angebote der frühen Förderung informiert (z.B. schriftlich, telefonisch)? | D19: Ja | E19: Ja | H19: =IF(D19="ja",1,0) -> 1 | J19: =IF(E19="ja",1,0) -> 1 | M19: =IF(AND(D19="",E19=""),0,IF(AND(D19="nein",E19="ja"),1,IF(AND(D19="ja",E19="nein"),2,3))) -> 3
C20: Sind die Informationen zur frühen Förderung für Familien gut zugänglich (z.B. verschiedene Kanäle, verschiedene Sprachen) verfügbar? | D20: Nein | E20: Ja | H20: =IF(D20="ja",1,0) -> 0 | J20: =IF(E20="ja",1,0) -> 1 | M20: =IF(AND(D20="",E20=""),0,IF(AND(D20="nein",E20="ja"),1,IF(AND(D20="ja",E20="nein"),2,3))) -> 1
C21: Gibt es für Familien eine Übersicht der Angebote (z.B. Erziehungs- und Beratungsangebote, Begegnungsorte wie Spielplätze)? | D21: Ja | E21: Ja | H21: =IF(D21="ja",1,0) -> 1 | J21: =IF(E21="ja",1,0) -> 1 | M21: =IF(AND(D21="",E21=""),0,IF(AND(D21="nein",E21="ja"),1,IF(AND(D21="ja",E21="nein"),2,3))) -> 3
C22: Werden Eltern zu relevanten Entwicklungsthemen in der frühen Kindheit (z.B. Spracherwerb, Bewegung, körperliche/motorische Entwicklung, Bindung) in Angeboten der Elternbildung gebildet bzw. sensibilisiert (z.B. an Anlässen, bei der Elternarbeit, über das Projekt Buchstart)? | D22: Ja | E22: Ja | H22: =IF(D22="ja",1,0) -> 1 | J22: =IF(E22="ja",1,0) -> 1 | M22: =IF(AND(D22="",E22=""),0,IF(AND(D22="nein",E22="ja"),1,IF(AND(D22="ja",E22="nein"),2,3))) -> 3
C23: Werden die Kinder und deren Eltern beim Übergang vom Frühbereich in den Kindergarten begleitet (gemeinsame Informationstätigkeit, Besuchstage, usw.)? | D23: Ja | E23: Ja | H23: =IF(D23="ja",1,0) -> 1 | J23: =IF(E23="ja",1,0) -> 1 | M23: =IF(AND(D23="",E23=""),0,IF(AND(D23="nein",E23="ja"),1,IF(AND(D23="ja",E23="nein"),2,3))) -> 3
A24: G5 | B24: Spezifische Unterstützungs-angebote | C24: Gibt es in der Gemeinde (oder im Verbund) ein Angebot (z.B. Schenk mir eine Geschichte, PAT - Mit Eltern lernen) für Familien mit besonderen Bedürfnissen (z.B. für Familien mit Kindern mit Behinderung, Familien mit Migrationsgeschichte, armutsbetroffene Familien, mehrfach belastete Familien)? | D24: Ja | E24: Ja | H24: =IF(D24="ja",1,0) -> 1 | I24: =SUM(H24:H25)*(3/2) -> 1.5 | J24: =IF(E24="ja",1,0) -> 1 | K24: =SUM(J24:J25)*(3/2) -> 3 | M24: =IF(AND(D24="",E24=""),0,IF(AND(D24="nein",E24="ja"),1,IF(AND(D24="ja",E24="nein"),2,3))) -> 3
C25: Sind die Angebote für Familien mit besonderen Bedürfnissen genügend bekannt bzw. können die entsprechenden Familien damit erreicht werden? | D25: Nein | E25: Ja | H25: =IF(D25="ja",1,0) -> 0 | J25: =IF(E25="ja",1,0) -> 1 | M25: =IF(AND(D25="",E25=""),0,IF(AND(D25="nein",E25="ja"),1,IF(AND(D25="ja",E25="nein"),2,3))) -> 1
A26: G6 | B26: Spielgruppen | C26: Gibt es in der Gemeinde (oder im Verbund) eine oder mehrere Spielgruppen? | D26: Ja | E26: Ja | H26: =IF(D26="ja",1,0) -> 1 | I26: =SUM(H26:H28)*(3/3) -> 1 | J26: =IF(E26="ja",1,0) -> 1 | K26: =SUM(J26:J28)*(3/3) -> 2 | M26: =IF(AND(D26="",E26=""),0,IF(AND(D26="nein",E26="ja"),1,IF(AND(D26="ja",E26="nein"),2,3))) -> 3
C27: Ist die Spielgruppe für Eltern und Kinder gut zugänglich (z.B. keine langen Wartefristen, Lage, Barrierefreiheit)? | D27: Nein | E27: Ja | H27: =IF(D27="ja",1,0) -> 0 | J27: =IF(E27="ja",1,0) -> 1 | M27: =IF(AND(D27="",E27=""),0,IF(AND(D27="nein",E27="ja"),1,IF(AND(D27="ja",E27="nein"),2,3))) -> 1
C28: Ist die Nutzung der Spielgruppe bekannt bzw. wird dies regelmässig ausgewertet und allfällige Weiterentwicklungsmassnahmen (z.B. zur besseren Zugänglichkeit) getroffen? | D28: Nein | E28: Nein | H28: =IF(D28="ja",1,0) -> 0 | J28: =IF(E28="ja",1,0) -> 0 | M28: =IF(AND(D28="",E28=""),0,IF(AND(D28="nein",E28="ja"),1,IF(AND(D28="ja",E28="nein"),2,3))) -> 3
A29: G7 | B29: famlienergänzende Betreuungs- angebote | C29: Gibt es in der Gemeinde (im Verbund) ein Angebot der familienergänzenden Kinderbetreuung (Kindertagesstätte und/oder Tagesfamilien)? | D29: Ja | E29: Ja | H29: =IF(D29="ja",1,0) -> 1 | I29: =SUM(H29:H31)*(3/3) -> 1 | J29: =IF(E29="ja",1,0) -> 1 | K29: =SUM(J29:J31)*(3/3) -> 2 | M29: =IF(AND(D29="",E29=""),0,IF(AND(D29="nein",E29="ja"),1,IF(AND(D29="ja",E29="nein"),2,3))) -> 3
C30: Sind die Angebote der familienergänzenden Kinderbetreuung für Familien gut zugänglich (z.B. keine langen Wartefristen, Lage, Barrierefreiheit)? | D30: Nein | E30: Ja | H30: =IF(D30="ja",1,0) -> 0 | J30: =IF(E30="ja",1,0) -> 1 | M30: =IF(AND(D30="",E30=""),0,IF(AND(D30="nein",E30="ja"),1,IF(AND(D30="ja",E30="nein"),2,3))) -> 1
C31: Gibt es Betreuungsangebote für Kinder mit Behinderung und spezifischen Betreuungsbedürfnissen? | D31: Nein | E31: Nein | H31: =IF(D31="ja",1,0) -> 0 | J31: =IF(E31="ja",1,0) -> 0 | M31: =IF(AND(D31="",E31=""),0,IF(AND(D31="nein",E31="ja"),1,IF(AND(D31="ja",E31="nein"),2,3))) -> 3

Sheet Hintergrundinfos
A1: Hintergrundinformationen zum Instrument
A3: Das vorliegende Instrument: - gibt Verantwortlichen der Gemeinden die Möglichkeit, ihre bisherige Politik der frühen Kindheit zu analysieren (Ist-Zustand). Darauf basierend können allfällige strategische Entscheide gefällt oder Massnahmen getroffen werden; - kann von verschiedenen Personen, die sich mit der frühen Förderung auseinandersetzen möchten, angewendet werden (Gemeinderäte/-innen, Fachpersonen der Verwaltung, Beratungspersonen). Es richtet sich jedoch primär an Verantwortliche in Gemeinden (bzw. Städten) und ist so ausgestaltet, dass die Verantwortlichen dieses auch ohne (externe) Begleitung einsetzen können; - ist in erster Linie eine Hilfe zur Selbsteinschätzung. Idealerweise wird es im Austausch (z.B. einer Arbeitsgruppe, mit Angeboten/Fachpersonen aus der Gemeinde) ergänzt; - gibt nicht an, wie die Gemeinden ihre Angebote und Aktivitäten der frühen Förderung konkret ausgestalten sollen, da in jeder Gemeinde unterschiedliche Rahmenbedingungen bestehen, die auch verschiedene Massnahmen erfordern; - ist für grosse und kleine Gemeinden (bzw. Städte) gleichermassen geeignet.
A5: Für eine Beratung zum Umgang mit dem Instrument stehen die zuständigen Stellen beim Kanton gerne unter folgenden Adressen zur Verfügung:
A6: Amt für Soziales Spisergasse 41 9001 St.Gallen 058 229 33 18 jugend@sg.ch | B6: Amt für Gesundheitsvorsorge Unterstrasse 22 9001 St.Gallen 058 229 87 60 zepra@sg.ch | C6: Amt für Volksschule Davidstrasse 31 9001 St.Gallen 058 229 32 36 avs@sg.ch
A8: Das Dokument ist geschützt, um einfacher durch die Fragen zu scrollen (Tabulator) und versehentliches Löschen zu vermeiden. Es wird jedoch kein Passwort verwendet, falls Formeln Bezüge o.Ä. nachvollzogen werden möchten.
